BEGIN:VCALENDAR
VERSION:2.0
PRODID:-//Guglielmo Winery Morgan Hill, CA, Family Owned and Operated Sine 1925 - ECPv6.15.20//NONSGML v1.0//EN
CALSCALE:GREGORIAN
METHOD:PUBLISH
X-WR-CALNAME:Guglielmo Winery Morgan Hill, CA, Family Owned and Operated Sine 1925
X-ORIGINAL-URL:https://guglielmowinery.com
X-WR-CALDESC:Events for Guglielmo Winery Morgan Hill, CA, Family Owned and Operated Sine 1925
REFRESH-INTERVAL;VALUE=DURATION:PT1H
X-Robots-Tag:noindex
X-PUBLISHED-TTL:PT1H
BEGIN:VTIMEZONE
TZID:America/Los_Angeles
BEGIN:DAYLIGHT
TZOFFSETFROM:-0800
TZOFFSETTO:-0700
TZNAME:PDT
DTSTART:20250309T100000
END:DAYLIGHT
BEGIN:STANDARD
TZOFFSETFROM:-0700
TZOFFSETTO:-0800
TZNAME:PST
DTSTART:20251102T090000
END:STANDARD
BEGIN:DAYLIGHT
TZOFFSETFROM:-0800
TZOFFSETTO:-0700
TZNAME:PDT
DTSTART:20260308T100000
END:DAYLIGHT
BEGIN:STANDARD
TZOFFSETFROM:-0700
TZOFFSETTO:-0800
TZNAME:PST
DTSTART:20261101T090000
END:STANDARD
BEGIN:DAYLIGHT
TZOFFSETFROM:-0800
TZOFFSETTO:-0700
TZNAME:PDT
DTSTART:20270314T100000
END:DAYLIGHT
BEGIN:STANDARD
TZOFFSETFROM:-0700
TZOFFSETTO:-0800
TZNAME:PST
DTSTART:20271107T090000
END:STANDARD
END:VTIMEZONE
BEGIN:VEVENT
DTSTART;TZID=America/Los_Angeles:20260517T130000
DTEND;TZID=America/Los_Angeles:20260517T170000
DTSTAMP:20260419T072513
CREATED:20260415T065243Z
LAST-MODIFIED:20260415T065306Z
UID:12868-1779022800-1779037200@guglielmowinery.com
SUMMARY:7th Annual Mainstream Boutique Fashion Show
DESCRIPTION:The Triple Crown Runway: 7th Annual Mainstream Boutique Fashion Show at Guglielmo Winery\nThere are moments in life when style\, community\, and purpose come together beautifully—and this is one of them. \nJoin us at Guglielmo Winery for an unforgettable afternoon as we host The Triple Crown Runway: 7th Annual Fashion Show\, a cherished tradition celebrating seven remarkable years of Mainstream Boutique Morgan Hill serving and styling our beloved community. \nInspired by the elegance and excitement of the Kentucky Derby\, this one-of-a-kind event invites you to sip\, savor\, and experience the latest seasonal fashions in a setting rooted in family\, heritage\, and hospitality. Set against the scenic beauty of our vineyards\, the runway will come alive with style\, confidence\, and the spirit of togetherness that defines Morgan Hill. \nEach year\, this special gathering brings together fashion lovers\, local businesses\, and friends—both old and new—to celebrate not only beautiful clothing\, but the relationships that have been woven together over the years. \nAt the heart of the afternoon is something even more meaningful: giving back. Proceeds from this event proudly support the Edward Boss Prado Foundation\, continuing a shared commitment to uplifting and strengthening our local community. \nWe invite you to be part of this elegant tradition—where fashion meets purpose\, and every moment is filled with connection\, joy\, and a touch of timeless charm. \nEvent Details\nDate: Sunday\, May 17th\, 2026 \nTime: 1:00 PM – 5:00 PM \nLocation: Guglielmo Winery\, Morgan Hill \nTickets\nAdvance Tickets: $75 \nAt the Door: $85 \nSeats are limited\, and this event sells out each year. \nWe encourage you to reserve your place early and join us for an afternoon to remember. \n📞 To purchase tickets\, please call: 408-612-859
URL:https://guglielmowinery.com/event/7th-annual-mainstream-boutique-fashion-show/
LOCATION:Guglielmo Winery
CATEGORIES:Public Events
ATTACH;FMTTYPE=image/png:https://guglielmowinery.com/wp-content/uploads/2026/04/Image-4-14-26-at-11.39 PM.png
END:VEVENT
END:VCALENDAR